BEGIN:VCALENDAR
PRODID:-//eluceo/ical//2.0/EN
VERSION:2.0
CALSCALE:GREGORIAN
BEGIN:VEVENT
UID:hey.bayern.694975.6557190
DTSTAMP:20260424T140636Z
SUMMARY:30 Jahre Kupfermuckn - mehr als eine Zeitung
DTSTART;TZID=Europe/Berlin:20260513T170000
DTEND;TZID=Europe/Berlin:20260513T213000
LOCATION:Landstraße 36\, 4020 Linz\, Österreich
GEO:48.301418;14.289631
X-APPLE-STRUCTURED-LOCATION;VALUE=URI;X-ADDRESS=Landstraße 36\, 4020 Linz\
 , Österreich;X-APPLE-RADIUS=49;X-TITLE=:geo:48.301418,14.289631
URL;VALUE=URI:https://hey.bayern/events/694975
END:VEVENT
END:VCALENDAR
