BEGIN:VCALENDAR
PRODID:-//eluceo/ical//2.0/EN
VERSION:2.0
CALSCALE:GREGORIAN
BEGIN:VEVENT
UID:hey.bayern.694974.6557189
DTSTAMP:20260424T063948Z
SUMMARY:3. Großer Preis von Jochberg - Kartrennen
DTSTART;TZID=Europe/Berlin:20260718T090000
DTEND;TZID=Europe/Berlin:20260718T140000
URL;VALUE=URI:https://hey.bayern/events/694974
END:VEVENT
END:VCALENDAR
