BEGIN:VCALENDAR
PRODID:-//eluceo/ical//2.0/EN
VERSION:2.0
CALSCALE:GREGORIAN
BEGIN:VEVENT
UID:hey.bayern.694970.6557174
DTSTAMP:20260424T085003Z
SUMMARY:22. Depotfest der FF Gmunden
DTSTART;TZID=Europe/Berlin:20260711T100000
DTEND;TZID=Europe/Berlin:20260711T230000
LOCATION:Traunsteinstraße 7\, 4810 Gmunden\, Österreich
GEO:47.916643;13.804820
X-APPLE-STRUCTURED-LOCATION;VALUE=URI;X-ADDRESS=Traunsteinstraße 7\, 4810 
 Gmunden\, Österreich;X-APPLE-RADIUS=49;X-TITLE=:geo:47.916643,13.804820
URL;VALUE=URI:https://hey.bayern/events/694970
END:VEVENT
END:VCALENDAR
