BEGIN:VCALENDAR
PRODID:-//eluceo/ical//2.0/EN
VERSION:2.0
CALSCALE:GREGORIAN
BEGIN:VEVENT
UID:hey.bayern.694967.6557168
DTSTAMP:20260424T140654Z
SUMMARY:1. Mai Feier mit Live Musik
DTSTART;TZID=Europe/Berlin:20260430T170000
DTEND;TZID=Europe/Berlin:20260430T235900
URL;VALUE=URI:https://hey.bayern/events/694967
END:VEVENT
END:VCALENDAR
