BEGIN:VCALENDAR
PRODID:-//eluceo/ical//2.0/EN
VERSION:2.0
CALSCALE:GREGORIAN
BEGIN:VEVENT
UID:hey.bayern.694960.6557066
DTSTAMP:20260423T045308Z
SUMMARY:Winter Varieté Amadé
DTSTART;TZID=Europe/Berlin:20261029T190000
DTEND;TZID=Europe/Berlin:20261029T235959
LOCATION:Leo-Neumayer-Platz 1\, 5600 St. Johann im Pongau\, Österreich
GEO:47.350300;13.200470
X-APPLE-STRUCTURED-LOCATION;VALUE=URI;X-ADDRESS=Leo-Neumayer-Platz 1\, 5600
  St. Johann im Pongau\, Österreich;X-APPLE-RADIUS=49;X-TITLE=:geo:47.3503
 00,13.200470
URL;VALUE=URI:https://hey.bayern/events/694960
END:VEVENT
END:VCALENDAR
