BEGIN:VCALENDAR
PRODID:-//eluceo/ical//2.0/EN
VERSION:2.0
CALSCALE:GREGORIAN
BEGIN:VEVENT
UID:hey.bayern.694954.6557019
DTSTAMP:20260423T045309Z
SUMMARY:Traktor Wandern - Zeit für mich
DTSTART;TZID=Europe/Berlin:20260523T090000
DTEND;TZID=Europe/Berlin:20260523T130000
LOCATION:Riedholzstraße 15a\, 4910 Ried im Innkreis\, Österreich
GEO:48.213845;13.470928
X-APPLE-STRUCTURED-LOCATION;VALUE=URI;X-ADDRESS=Riedholzstraße 15a\, 4910 
 Ried im Innkreis\, Österreich;X-APPLE-RADIUS=49;X-TITLE=:geo:48.213845,13
 .470928
URL;VALUE=URI:https://hey.bayern/events/694954
END:VEVENT
END:VCALENDAR
