BEGIN:VCALENDAR
PRODID:-//eluceo/ical//2.0/EN
VERSION:2.0
CALSCALE:GREGORIAN
BEGIN:VEVENT
UID:hey.bayern.694933.6556903
DTSTAMP:20260423T071922Z
SUMMARY:Pfingst Bierzelt des TSV Unken
DTSTART;TZID=Europe/Berlin:20260524T110000
DTEND;TZID=Europe/Berlin:20260524T235959
LOCATION:Niederland 238\, 5091 Unken\, Österreich
URL;VALUE=URI:https://hey.bayern/events/694933
END:VEVENT
END:VCALENDAR
