BEGIN:VCALENDAR
PRODID:-//eluceo/ical//2.0/EN
VERSION:2.0
CALSCALE:GREGORIAN
BEGIN:VEVENT
UID:hey.bayern.694923.6556831
DTSTAMP:20260423T095155Z
SUMMARY:Neueröffnung Reither Riese
DTSTART;TZID=Europe/Berlin:20260425T100000
DTEND;TZID=Europe/Berlin:20260425T235900
LOCATION:6103 Reith bei Seefeld\, Österreich
GEO:47.299460;11.203480
X-APPLE-STRUCTURED-LOCATION;VALUE=URI;X-ADDRESS=6103 Reith bei Seefeld\, Ö
 sterreich;X-APPLE-RADIUS=49;X-TITLE=:geo:47.299460,11.203480
URL;VALUE=URI:https://hey.bayern/events/694923
END:VEVENT
END:VCALENDAR
