BEGIN:VCALENDAR
PRODID:-//eluceo/ical//2.0/EN
VERSION:2.0
CALSCALE:GREGORIAN
BEGIN:VEVENT
UID:hey.bayern.694917.6556777
DTSTAMP:20260423T234059Z
SUMMARY:Musi Skiwoche 2027
DTSTART;TZID=Europe/Berlin:20270122T120000
DTEND;TZID=Europe/Berlin:20270123T120000
URL;VALUE=URI:https://hey.bayern/events/694917
END:VEVENT
END:VCALENDAR
