BEGIN:VCALENDAR
PRODID:-//eluceo/ical//2.0/EN
VERSION:2.0
CALSCALE:GREGORIAN
BEGIN:VEVENT
UID:hey.bayern.694908.6556731
DTSTAMP:20260423T071938Z
SUMMARY:Maifest Warm-Up-Party
DTSTART;TZID=Europe/Berlin:20260430T200000
DTEND;TZID=Europe/Berlin:20260430T235959
LOCATION:5090 Lofer\, Österreich
URL;VALUE=URI:https://hey.bayern/events/694908
END:VEVENT
END:VCALENDAR
