BEGIN:VCALENDAR
PRODID:-//eluceo/ical//2.0/EN
VERSION:2.0
CALSCALE:GREGORIAN
BEGIN:VEVENT
UID:hey.bayern.694895.6556691
DTSTAMP:20260423T170759Z
SUMMARY:Käsekurs incl. Verkostung im Almwirtshaus Ainkehr
DTSTART;TZID=Europe/Berlin:20260707T140000
DTEND;TZID=Europe/Berlin:20260707T160000
LOCATION:Katschberghöhe 40\, 9863 Katschberghöhe\, Österreich
GEO:47.058473;13.618168
X-APPLE-STRUCTURED-LOCATION;VALUE=URI;X-ADDRESS=Katschberghöhe 40\, 9863 K
 atschberghöhe\, Österreich;X-APPLE-RADIUS=49;X-TITLE=:geo:47.058473,13.6
 18168
URL;VALUE=URI:https://hey.bayern/events/694895
END:VEVENT
END:VCALENDAR
