BEGIN:VCALENDAR
PRODID:-//eluceo/ical//2.0/EN
VERSION:2.0
CALSCALE:GREGORIAN
BEGIN:VEVENT
UID:hey.bayern.694888.6556639
DTSTAMP:20260423T065644Z
SUMMARY:Kirtag der evangelischen Gemeinde Mondsee
DTSTART;TZID=Europe/Berlin:20260607T100000
DTEND;TZID=Europe/Berlin:20260607T235900
LOCATION:Marktplatz\, Kirchenplatz\, 5310 Mondsee am Mondsee\, Österreich
GEO:47.855740;13.350810
X-APPLE-STRUCTURED-LOCATION;VALUE=URI;X-ADDRESS=Marktplatz\, Kirchenplatz\,
  5310 Mondsee am Mondsee\, Österreich;X-APPLE-RADIUS=49;X-TITLE=:geo:47.8
 55740,13.350810
URL;VALUE=URI:https://hey.bayern/events/694888
END:VEVENT
END:VCALENDAR
