BEGIN:VCALENDAR
PRODID:-//eluceo/ical//2.0/EN
VERSION:2.0
CALSCALE:GREGORIAN
BEGIN:VEVENT
UID:hey.bayern.694882.6556609
DTSTAMP:20260423T071749Z
SUMMARY:KERAMIK-WORKSHOP - Frauenkräuter verbinden sich mit Ton
DTSTART;TZID=Europe/Berlin:20260509T083000
DTEND;TZID=Europe/Berlin:20260509T153000
LOCATION:4190 Bad Leonfelden\, Österreich
GEO:48.511530;14.295230
X-APPLE-STRUCTURED-LOCATION;VALUE=URI;X-ADDRESS=4190 Bad Leonfelden\, Öste
 rreich;X-APPLE-RADIUS=49;X-TITLE=:geo:48.511530,14.295230
URL;VALUE=URI:https://hey.bayern/events/694882
END:VEVENT
END:VCALENDAR
