BEGIN:VCALENDAR
PRODID:-//eluceo/ical//2.0/EN
VERSION:2.0
CALSCALE:GREGORIAN
BEGIN:VEVENT
UID:hey.bayern.694881.6556608
DTSTAMP:20260423T140435Z
SUMMARY:Jazz on a summer’s day” Nr. 6
DTSTART;TZID=Europe/Berlin:20260723T193000
DTEND;TZID=Europe/Berlin:20260723T213000
LOCATION:Engleitenstraße 17\, 4820 Bad Ischl\, Österreich
GEO:47.685692;13.621400
X-APPLE-STRUCTURED-LOCATION;VALUE=URI;X-ADDRESS=Engleitenstraße 17\, 4820 
 Bad Ischl\, Österreich;X-APPLE-RADIUS=49;X-TITLE=:geo:47.685692,13.621400
URL;VALUE=URI:https://hey.bayern/events/694881
END:VEVENT
END:VCALENDAR
