BEGIN:VCALENDAR
PRODID:-//eluceo/ical//2.0/EN
VERSION:2.0
CALSCALE:GREGORIAN
BEGIN:VEVENT
UID:hey.bayern.694860.6556425
DTSTAMP:20260423T234056Z
SUMMARY:Generalprobe "Wenn die Musi spielt" Winter Open Air 2027
DTSTART;TZID=Europe/Berlin:20270122T201500
DTEND;TZID=Europe/Berlin:20270123T201500
URL;VALUE=URI:https://hey.bayern/events/694860
END:VEVENT
END:VCALENDAR
