BEGIN:VCALENDAR
PRODID:-//eluceo/ical//2.0/EN
VERSION:2.0
CALSCALE:GREGORIAN
BEGIN:VEVENT
UID:hey.bayern.694849.6556298
DTSTAMP:20260423T031333Z
SUMMARY:Firmung
DTSTART;TZID=Europe/Berlin:20260426T090000
DTEND;TZID=Europe/Berlin:20260426T235959
LOCATION:Vordermuhr 1\, 5583 Muhr\, Österreich
URL;VALUE=URI:https://hey.bayern/events/694849
END:VEVENT
END:VCALENDAR
