BEGIN:VCALENDAR
PRODID:-//eluceo/ical//2.0/EN
VERSION:2.0
CALSCALE:GREGORIAN
BEGIN:VEVENT
UID:hey.bayern.694836.6556172
DTSTAMP:20260423T071915Z
SUMMARY:Country Night
DTSTART;TZID=Europe/Berlin:20260501T210000
DTEND;TZID=Europe/Berlin:20260501T235900
LOCATION:6653 Bach\, Österreich
URL;VALUE=URI:https://hey.bayern/events/694836
END:VEVENT
END:VCALENDAR
