BEGIN:VCALENDAR
PRODID:-//eluceo/ical//2.0/EN
VERSION:2.0
CALSCALE:GREGORIAN
BEGIN:VEVENT
UID:hey.bayern.694835.6556171
DTSTAMP:20260423T071922Z
SUMMARY:Cocktail Night im HerzDrei
DTSTART;TZID=Europe/Berlin:20260502T180000
DTEND;TZID=Europe/Berlin:20260502T235959
LOCATION:Hollersbach 8\, 5731 Hollersbach im Pinzgau\, Österreich
URL;VALUE=URI:https://hey.bayern/events/694835
END:VEVENT
END:VCALENDAR
