BEGIN:VCALENDAR
PRODID:-//eluceo/ical//2.0/EN
VERSION:2.0
CALSCALE:GREGORIAN
BEGIN:VEVENT
UID:hey.bayern.694814.6556133
DTSTAMP:20260423T234059Z
SUMMARY:"Wenn die Musi spielt" Sommer Open Air 2027
DTSTART;TZID=Europe/Berlin:20270619T201500
DTEND;TZID=Europe/Berlin:20270620T201500
URL;VALUE=URI:https://hey.bayern/events/694814
END:VEVENT
END:VCALENDAR
