BEGIN:VCALENDAR
PRODID:-//eluceo/ical//2.0/EN
VERSION:2.0
CALSCALE:GREGORIAN
BEGIN:VEVENT
UID:hey.bayern.694809.6556064
DTSTAMP:20260422T045524Z
SUMMARY:schillern: Wohltemperiert auf fünf Clavieren
DTSTART;TZID=Europe/Berlin:20260523T180000
DTEND;TZID=Europe/Berlin:20260523T235959
LOCATION:Hollenegger Straße 19\, 8530 Deutschlandsberg\, Österreich
GEO:46.811321;15.215909
X-APPLE-STRUCTURED-LOCATION;VALUE=URI;X-ADDRESS=Hollenegger Straße 19\, 85
 30 Deutschlandsberg\, Österreich;X-APPLE-RADIUS=49;X-TITLE=:geo:46.811321
 ,15.215909
URL;VALUE=URI:https://hey.bayern/events/694809
END:VEVENT
END:VCALENDAR
