BEGIN:VCALENDAR
PRODID:-//eluceo/ical//2.0/EN
VERSION:2.0
CALSCALE:GREGORIAN
BEGIN:VEVENT
UID:hey.bayern.694808.6556063
DTSTAMP:20260422T045523Z
SUMMARY:schillern: Wo die Kanonen blühn
DTSTART;TZID=Europe/Berlin:20260531T170000
DTEND;TZID=Europe/Berlin:20260531T235959
LOCATION:Unterer Markt 24\, 8551 Wies\, Österreich
GEO:46.719959;15.273499
X-APPLE-STRUCTURED-LOCATION;VALUE=URI;X-ADDRESS=Unterer Markt 24\, 8551 Wie
 s\, Österreich;X-APPLE-RADIUS=49;X-TITLE=:geo:46.719959,15.273499
URL;VALUE=URI:https://hey.bayern/events/694808
END:VEVENT
END:VCALENDAR
