BEGIN:VCALENDAR
PRODID:-//eluceo/ical//2.0/EN
VERSION:2.0
CALSCALE:GREGORIAN
BEGIN:VEVENT
UID:hey.bayern.694807.6556061
DTSTAMP:20260422T034511Z
SUMMARY:schillern: Songs & Stories
DTSTART;TZID=Europe/Berlin:20260517T180000
DTEND;TZID=Europe/Berlin:20260517T235959
LOCATION:Bahnhofstraße 21\, 8510 Stainz\, Österreich
GEO:46.893572;15.267638
X-APPLE-STRUCTURED-LOCATION;VALUE=URI;X-ADDRESS=Bahnhofstraße 21\, 8510 St
 ainz\, Österreich;X-APPLE-RADIUS=49;X-TITLE=:geo:46.893572,15.267638
URL;VALUE=URI:https://hey.bayern/events/694807
END:VEVENT
END:VCALENDAR
