BEGIN:VCALENDAR
PRODID:-//eluceo/ical//2.0/EN
VERSION:2.0
CALSCALE:GREGORIAN
BEGIN:VEVENT
UID:hey.bayern.694806.6556060
DTSTAMP:20260422T045524Z
SUMMARY:schillern: STELL:WERK
DTSTART;TZID=Europe/Berlin:20260521T180000
DTEND;TZID=Europe/Berlin:20260521T235959
LOCATION:Hauptplatz 22\, 8530 Deutschlandsberg\, Österreich
GEO:46.814790;15.213173
X-APPLE-STRUCTURED-LOCATION;VALUE=URI;X-ADDRESS=Hauptplatz 22\, 8530 Deutsc
 hlandsberg\, Österreich;X-APPLE-RADIUS=49;X-TITLE=:geo:46.814790,15.21317
 3
URL;VALUE=URI:https://hey.bayern/events/694806
END:VEVENT
END:VCALENDAR
