BEGIN:VCALENDAR
PRODID:-//eluceo/ical//2.0/EN
VERSION:2.0
CALSCALE:GREGORIAN
BEGIN:VEVENT
UID:hey.bayern.694804.6556057
DTSTAMP:20260422T045523Z
SUMMARY:schillern: PINK:HILL - Wine & Culture
DTSTART;TZID=Europe/Berlin:20260522T190000
DTEND;TZID=Europe/Berlin:20260522T235959
LOCATION:Alexander-Kortschak-Weg 6\, 8530 Deutschlandsberg\, Österreich
GEO:46.825912;15.156597
X-APPLE-STRUCTURED-LOCATION;VALUE=URI;X-ADDRESS=Alexander-Kortschak-Weg 6\,
  8530 Deutschlandsberg\, Österreich;X-APPLE-RADIUS=49;X-TITLE=:geo:46.825
 912,15.156597
URL;VALUE=URI:https://hey.bayern/events/694804
END:VEVENT
END:VCALENDAR
