BEGIN:VCALENDAR
PRODID:-//eluceo/ical//2.0/EN
VERSION:2.0
CALSCALE:GREGORIAN
BEGIN:VEVENT
UID:hey.bayern.694803.6556056
DTSTAMP:20260422T034510Z
SUMMARY:schillern: Kuratorinnenführung Blühende Felder.
DTSTART;TZID=Europe/Berlin:20260528T153000
DTEND;TZID=Europe/Berlin:20260528T235959
LOCATION:Schlossplatz 1\, 8510 Stainz\, Österreich
GEO:46.896061;15.263602
X-APPLE-STRUCTURED-LOCATION;VALUE=URI;X-ADDRESS=Schlossplatz 1\, 8510 Stain
 z\, Österreich;X-APPLE-RADIUS=49;X-TITLE=:geo:46.896061,15.263602
URL;VALUE=URI:https://hey.bayern/events/694803
END:VEVENT
END:VCALENDAR
