BEGIN:VCALENDAR
PRODID:-//eluceo/ical//2.0/EN
VERSION:2.0
CALSCALE:GREGORIAN
BEGIN:VEVENT
UID:hey.bayern.694802.6556054
DTSTAMP:20260422T045524Z
SUMMARY:schillern: Hörensagen
DTSTART;TZID=Europe/Berlin:20260527T200000
DTEND;TZID=Europe/Berlin:20260527T235959
LOCATION:Hinterleitenstraße 40\, 8523 Frauental an der Laßnitz\, Österre
 ich
GEO:46.828359;15.248126
X-APPLE-STRUCTURED-LOCATION;VALUE=URI;X-ADDRESS=Hinterleitenstraße 40\, 85
 23 Frauental an der Laßnitz\, Österreich;X-APPLE-RADIUS=49;X-TITLE=:geo:
 46.828359,15.248126
URL;VALUE=URI:https://hey.bayern/events/694802
END:VEVENT
END:VCALENDAR
