BEGIN:VCALENDAR
PRODID:-//eluceo/ical//2.0/EN
VERSION:2.0
CALSCALE:GREGORIAN
BEGIN:VEVENT
UID:hey.bayern.694801.6556053
DTSTAMP:20260422T045524Z
SUMMARY:schillern: Gottes Plagen - Eine abenteuerliche Reise ins steirische
  Mittelalter
DTSTART;TZID=Europe/Berlin:20260528T183000
DTEND;TZID=Europe/Berlin:20260528T235959
LOCATION:Burgplatz 2\, 8530 Deutschlandsberg\, Österreich
GEO:46.813619;15.197043
X-APPLE-STRUCTURED-LOCATION;VALUE=URI;X-ADDRESS=Burgplatz 2\, 8530 Deutschl
 andsberg\, Österreich;X-APPLE-RADIUS=49;X-TITLE=:geo:46.813619,15.197043
URL;VALUE=URI:https://hey.bayern/events/694801
END:VEVENT
END:VCALENDAR
