BEGIN:VCALENDAR
PRODID:-//eluceo/ical//2.0/EN
VERSION:2.0
CALSCALE:GREGORIAN
BEGIN:VEVENT
UID:hey.bayern.694800.6556052
DTSTAMP:20260422T045522Z
SUMMARY:schillern: Eröffnung schillern 2026
DTSTART;TZID=Europe/Berlin:20260513T180000
DTEND;TZID=Europe/Berlin:20260513T235959
LOCATION:Hollenegg 1\, 8530 Bad Schwanberg\, Österreich
GEO:46.784140;15.224811
X-APPLE-STRUCTURED-LOCATION;VALUE=URI;X-ADDRESS=Hollenegg 1\, 8530 Bad Schw
 anberg\, Österreich;X-APPLE-RADIUS=49;X-TITLE=:geo:46.784140,15.224811
URL;VALUE=URI:https://hey.bayern/events/694800
END:VEVENT
END:VCALENDAR
