BEGIN:VCALENDAR
PRODID:-//eluceo/ical//2.0/EN
VERSION:2.0
CALSCALE:GREGORIAN
BEGIN:VEVENT
UID:hey.bayern.694799.6556051
DTSTAMP:20260422T045520Z
SUMMARY:schillern: Ein Fußballbuch - Austrofred liest
DTSTART;TZID=Europe/Berlin:20260515T193000
DTEND;TZID=Europe/Berlin:20260515T235959
LOCATION:Marktplatz 4\, 8551 Wies\, Österreich
GEO:46.718045;15.271127
X-APPLE-STRUCTURED-LOCATION;VALUE=URI;X-ADDRESS=Marktplatz 4\, 8551 Wies\, 
 Österreich;X-APPLE-RADIUS=49;X-TITLE=:geo:46.718045,15.271127
URL;VALUE=URI:https://hey.bayern/events/694799
END:VEVENT
END:VCALENDAR
