BEGIN:VCALENDAR
PRODID:-//eluceo/ical//2.0/EN
VERSION:2.0
CALSCALE:GREGORIAN
BEGIN:VEVENT
UID:hey.bayern.694798.6556048
DTSTAMP:20260422T045523Z
SUMMARY:schillern: Designausstellung Element: Metal Workshops & Kuratorinf
 ührung
DTSTART;TZID=Europe/Berlin:20260514T180000
DTEND;TZID=Europe/Berlin:20260514T235959
LOCATION:Hollenegg 1\, 8530 Bad Schwanberg\, Österreich
GEO:46.784140;15.224811
X-APPLE-STRUCTURED-LOCATION;VALUE=URI;X-ADDRESS=Hollenegg 1\, 8530 Bad Schw
 anberg\, Österreich;X-APPLE-RADIUS=49;X-TITLE=:geo:46.784140,15.224811
URL;VALUE=URI:https://hey.bayern/events/694798
END:VEVENT
END:VCALENDAR
