BEGIN:VCALENDAR
PRODID:-//eluceo/ical//2.0/EN
VERSION:2.0
CALSCALE:GREGORIAN
BEGIN:VEVENT
UID:hey.bayern.694797.6556044
DTSTAMP:20260422T034509Z
SUMMARY:schillern: Der Plattenspieler unter der Dachschräge
DTSTART;TZID=Europe/Berlin:20260527T190000
DTEND;TZID=Europe/Berlin:20260527T235959
LOCATION:Bahnhofstraße 21\, 8510 Stainz\, Österreich
GEO:46.893572;15.267638
X-APPLE-STRUCTURED-LOCATION;VALUE=URI;X-ADDRESS=Bahnhofstraße 21\, 8510 St
 ainz\, Österreich;X-APPLE-RADIUS=49;X-TITLE=:geo:46.893572,15.267638
URL;VALUE=URI:https://hey.bayern/events/694797
END:VEVENT
END:VCALENDAR
