BEGIN:VCALENDAR
PRODID:-//eluceo/ical//2.0/EN
VERSION:2.0
CALSCALE:GREGORIAN
BEGIN:VEVENT
UID:hey.bayern.694796.6556043
DTSTAMP:20260422T045524Z
SUMMARY:schillern: Das Schilcher ABC von Reinhard P. Gruber
DTSTART;TZID=Europe/Berlin:20260522T193000
DTEND;TZID=Europe/Berlin:20260522T235959
LOCATION:St. Stefan ob Stainz 14\, 8511 St. Stefan ob Stainz\, Österreich
GEO:46.929286;15.255795
X-APPLE-STRUCTURED-LOCATION;VALUE=URI;X-ADDRESS=St. Stefan ob Stainz 14\, 8
 511 St. Stefan ob Stainz\, Österreich;X-APPLE-RADIUS=49;X-TITLE=:geo:46.9
 29286,15.255795
URL;VALUE=URI:https://hey.bayern/events/694796
END:VEVENT
END:VCALENDAR
