BEGIN:VCALENDAR
PRODID:-//eluceo/ical//2.0/EN
VERSION:2.0
CALSCALE:GREGORIAN
BEGIN:VEVENT
UID:hey.bayern.694794.6556041
DTSTAMP:20260422T045522Z
SUMMARY:schiller: POP ART - Kunst der Massenkultur
DTSTART;TZID=Europe/Berlin:20260523T140000
DTEND;TZID=Europe/Berlin:20260523T235959
LOCATION:Marktstraße 1\, 8522 Groß Sankt Florian\, Österreich
GEO:46.823288;15.317001
X-APPLE-STRUCTURED-LOCATION;VALUE=URI;X-ADDRESS=Marktstraße 1\, 8522 Groß
  Sankt Florian\, Österreich;X-APPLE-RADIUS=49;X-TITLE=:geo:46.823288,15.3
 17001
URL;VALUE=URI:https://hey.bayern/events/694794
END:VEVENT
END:VCALENDAR
