BEGIN:VCALENDAR
PRODID:-//eluceo/ical//2.0/EN
VERSION:2.0
CALSCALE:GREGORIAN
BEGIN:VEVENT
UID:hey.bayern.694783.6555935
DTSTAMP:20260422T012441Z
SUMMARY:Weihnachtsausstellung der Kunsthandwerker
DTSTART;TZID=Europe/Berlin:20261129T090000
DTEND;TZID=Europe/Berlin:20261129T235959
LOCATION:Pischelsdorf 23\, 8212 Pischelsdorf in der Steiermark\, Österreic
 h
URL;VALUE=URI:https://hey.bayern/events/694783
END:VEVENT
END:VCALENDAR
