BEGIN:VCALENDAR
PRODID:-//eluceo/ical//2.0/EN
VERSION:2.0
CALSCALE:GREGORIAN
BEGIN:VEVENT
UID:hey.bayern.694765.6555809
DTSTAMP:20260422T095451Z
SUMMARY:Sonderpostamt
DTSTART;TZID=Europe/Berlin:20261014T090000
DTEND;TZID=Europe/Berlin:20261014T120000
LOCATION:Sportplatzstraße 7\, 4840 Vöcklabruck\, Österreich
GEO:48.007859;13.646038
X-APPLE-STRUCTURED-LOCATION;VALUE=URI;X-ADDRESS=Sportplatzstraße 7\, 4840 
 Vöcklabruck\, Österreich;X-APPLE-RADIUS=49;X-TITLE=:geo:48.007859,13.646
 038
URL;VALUE=URI:https://hey.bayern/events/694765
END:VEVENT
END:VCALENDAR
