BEGIN:VCALENDAR
PRODID:-//eluceo/ical//2.0/EN
VERSION:2.0
CALSCALE:GREGORIAN
BEGIN:VEVENT
UID:hey.bayern.694762.6555793
DTSTAMP:20260422T045520Z
SUMMARY:Sobother Suppentheater: Geisterreiter
DTSTART;TZID=Europe/Berlin:20260517T170000
DTEND;TZID=Europe/Berlin:20260517T235959
LOCATION:Soboth 131\, 8554 Eibiswald\, Österreich
GEO:46.681188;15.075810
X-APPLE-STRUCTURED-LOCATION;VALUE=URI;X-ADDRESS=Soboth 131\, 8554 Eibiswald
 \, Österreich;X-APPLE-RADIUS=49;X-TITLE=:geo:46.681188,15.075810
URL;VALUE=URI:https://hey.bayern/events/694762
END:VEVENT
END:VCALENDAR
