BEGIN:VCALENDAR
PRODID:-//eluceo/ical//2.0/EN
VERSION:2.0
CALSCALE:GREGORIAN
BEGIN:VEVENT
UID:hey.bayern.694760.6555769
DTSTAMP:20260422T012439Z
SUMMARY:Schloffer´s Adventkalender
DTSTART;TZID=Europe/Berlin:20261220T163000
DTEND;TZID=Europe/Berlin:20261220T235959
LOCATION:Oberfeistritz 26\, 8190 Feistritz\, Österreich
URL;VALUE=URI:https://hey.bayern/events/694760
END:VEVENT
END:VCALENDAR
