BEGIN:VCALENDAR
PRODID:-//eluceo/ical//2.0/EN
VERSION:2.0
CALSCALE:GREGORIAN
BEGIN:VEVENT
UID:hey.bayern.694753.6554729
DTSTAMP:20260422T015907Z
SUMMARY:Pint of Science - Vortrag: Vom Rohstoff zum Abfall… und wieder zu
 rück?
DTSTART;TZID=Europe/Berlin:20260519T190000
DTEND;TZID=Europe/Berlin:20260519T220000
LOCATION:Café Bellini\, Hauptplatz 17\, 8700 Leoben\, Österreich
URL;VALUE=URI:https://hey.bayern/events/694753
END:VEVENT
END:VCALENDAR
