BEGIN:VCALENDAR
PRODID:-//eluceo/ical//2.0/EN
VERSION:2.0
CALSCALE:GREGORIAN
BEGIN:VEVENT
UID:hey.bayern.694752.6554728
DTSTAMP:20260422T015907Z
SUMMARY:Pint of Science - Talks in English: Small atoms\, big impact: Build
 ing and protec
DTSTART;TZID=Europe/Berlin:20260520T190000
DTEND;TZID=Europe/Berlin:20260520T220000
LOCATION:Café Bellini\, Hauptplatz 17\, 8700 Leoben\, Österreich
URL;VALUE=URI:https://hey.bayern/events/694752
END:VEVENT
END:VCALENDAR
