BEGIN:VCALENDAR
PRODID:-//eluceo/ical//2.0/EN
VERSION:2.0
CALSCALE:GREGORIAN
BEGIN:VEVENT
UID:hey.bayern.694746.6554704
DTSTAMP:20260422T030605Z
SUMMARY:Oldtimer Treffen
DTSTART;TZID=Europe/Berlin:20260426T090000
DTEND;TZID=Europe/Berlin:20260426T235959
LOCATION:Greithgrabenstraße 1\, 8063 Eggersdorf bei Graz\, Österreich
GEO:47.126146;15.562713
X-APPLE-STRUCTURED-LOCATION;VALUE=URI;X-ADDRESS=Greithgrabenstraße 1\, 806
 3 Eggersdorf bei Graz\, Österreich;X-APPLE-RADIUS=49;X-TITLE=:geo:47.1261
 46,15.562713
URL;VALUE=URI:https://hey.bayern/events/694746
END:VEVENT
END:VCALENDAR
