BEGIN:VCALENDAR
PRODID:-//eluceo/ical//2.0/EN
VERSION:2.0
CALSCALE:GREGORIAN
BEGIN:VEVENT
UID:hey.bayern.694741.6554694
DTSTAMP:20260422T034504Z
SUMMARY:Mutter Anna Kirtag in St. Anna/A.
DTSTART;TZID=Europe/Berlin:20260726T073000
DTEND;TZID=Europe/Berlin:20260726T235959
LOCATION:Marktstraße 7\, 8354 St. Anna am Aigen\, Österreich
URL;VALUE=URI:https://hey.bayern/events/694741
END:VEVENT
END:VCALENDAR
