BEGIN:VCALENDAR
PRODID:-//eluceo/ical//2.0/EN
VERSION:2.0
CALSCALE:GREGORIAN
BEGIN:VEVENT
UID:hey.bayern.694720.6554597
DTSTAMP:20260422T090644Z
SUMMARY:Konzert "Toni & Friends"
DTSTART;TZID=Europe/Berlin:20260515T200000
DTEND;TZID=Europe/Berlin:20260515T235959
LOCATION:Fanning 99\, 5571 Mariapfarr\, Österreich
URL;VALUE=URI:https://hey.bayern/events/694720
END:VEVENT
END:VCALENDAR
