BEGIN:VCALENDAR
PRODID:-//eluceo/ical//2.0/EN
VERSION:2.0
CALSCALE:GREGORIAN
BEGIN:VEVENT
UID:hey.bayern.694695.6554555
DTSTAMP:20260422T015858Z
SUMMARY:Hör mal\, wer da zeigt!
DTSTART;TZID=Europe/Berlin:20260513T200000
DTEND;TZID=Europe/Berlin:20260513T235959
LOCATION:Laßnitz 26\, 8850 Murau\, Österreich
GEO:47.059526;14.216449
X-APPLE-STRUCTURED-LOCATION;VALUE=URI;X-ADDRESS=Laßnitz 26\, 8850 Murau\, 
 Österreich;X-APPLE-RADIUS=49;X-TITLE=:geo:47.059526,14.216449
URL;VALUE=URI:https://hey.bayern/events/694695
END:VEVENT
END:VCALENDAR
