BEGIN:VCALENDAR
PRODID:-//eluceo/ical//2.0/EN
VERSION:2.0
CALSCALE:GREGORIAN
BEGIN:VEVENT
UID:hey.bayern.694683.6554482
DTSTAMP:20260422T091920Z
SUMMARY:Gitarrenkonzert mit Siegfried Steinkogler
DTSTART;TZID=Europe/Berlin:20260508T190000
DTEND;TZID=Europe/Berlin:20260508T234500
LOCATION:Marktplatz 19\, 4810 Gmunden\, Österreich
GEO:47.919200;13.800242
X-APPLE-STRUCTURED-LOCATION;VALUE=URI;X-ADDRESS=Marktplatz 19\, 4810 Gmunde
 n\, Österreich;X-APPLE-RADIUS=49;X-TITLE=:geo:47.919200,13.800242
URL;VALUE=URI:https://hey.bayern/events/694683
END:VEVENT
END:VCALENDAR
