BEGIN:VCALENDAR
PRODID:-//eluceo/ical//2.0/EN
VERSION:2.0
CALSCALE:GREGORIAN
BEGIN:VEVENT
UID:hey.bayern.694672.6554235
DTSTAMP:20260422T012441Z
SUMMARY:Eröffnung Schloffer´s Adventkalender
DTSTART;TZID=Europe/Berlin:20261129T170000
DTEND;TZID=Europe/Berlin:20261129T235959
LOCATION:Oberfeistritz 26\, 8190 Feistritz\, Österreich
URL;VALUE=URI:https://hey.bayern/events/694672
END:VEVENT
END:VCALENDAR
