BEGIN:VCALENDAR
PRODID:-//eluceo/ical//2.0/EN
VERSION:2.0
CALSCALE:GREGORIAN
BEGIN:VEVENT
UID:hey.bayern.694665.6554224
DTSTAMP:20260422T034436Z
SUMMARY:Die kleine Raupe Pumperlgsund
DTSTART;TZID=Europe/Berlin:20260524T140000
DTEND;TZID=Europe/Berlin:20260524T235959
LOCATION:Kopreinigg 90\, 8544 Pölfing-Brunn\, Österreich
GEO:46.715243;15.320594
X-APPLE-STRUCTURED-LOCATION;VALUE=URI;X-ADDRESS=Kopreinigg 90\, 8544 Pölfi
 ng-Brunn\, Österreich;X-APPLE-RADIUS=49;X-TITLE=:geo:46.715243,15.320594
URL;VALUE=URI:https://hey.bayern/events/694665
END:VEVENT
END:VCALENDAR
