BEGIN:VCALENDAR
PRODID:-//eluceo/ical//2.0/EN
VERSION:2.0
CALSCALE:GREGORIAN
BEGIN:VEVENT
UID:hey.bayern.694660.6554216
DTSTAMP:20260422T002001Z
SUMMARY:Chorkonzert der Singgemeinschaft Pöllauer Tal
DTSTART;TZID=Europe/Berlin:20260509T193000
DTEND;TZID=Europe/Berlin:20260509T235959
LOCATION:Schloss 1\, 8225 Pöllau\, Österreich
GEO:47.301803;15.833161
X-APPLE-STRUCTURED-LOCATION;VALUE=URI;X-ADDRESS=Schloss 1\, 8225 Pöllau\, 
 Österreich;X-APPLE-RADIUS=49;X-TITLE=:geo:47.301803,15.833161
URL;VALUE=URI:https://hey.bayern/events/694660
END:VEVENT
END:VCALENDAR
