BEGIN:VCALENDAR
PRODID:-//eluceo/ical//2.0/EN
VERSION:2.0
CALSCALE:GREGORIAN
BEGIN:VEVENT
UID:hey.bayern.694652.6554162
DTSTAMP:20260422T001809Z
SUMMARY:Adventzauber im Feistritztal
DTSTART;TZID=Europe/Berlin:20261129T143000
DTEND;TZID=Europe/Berlin:20261129T235959
LOCATION:Kaibing 122\, 8221 Feistritztal\, Österreich
URL;VALUE=URI:https://hey.bayern/events/694652
END:VEVENT
END:VCALENDAR
