BEGIN:VCALENDAR
PRODID:-//eluceo/ical//2.0/EN
VERSION:2.0
CALSCALE:GREGORIAN
BEGIN:VEVENT
UID:hey.bayern.694651.6554159
DTSTAMP:20260422T012442Z
SUMMARY:Adventmarkt: Glaszauber & Handwerkskunst
DTSTART;TZID=Europe/Berlin:20261128T140000
DTEND;TZID=Europe/Berlin:20261128T235959
LOCATION:Puch 83\, 8182 Puch bei Weiz\, Österreich
URL;VALUE=URI:https://hey.bayern/events/694651
END:VEVENT
END:VCALENDAR
