BEGIN:VCALENDAR
PRODID:-//eluceo/ical//2.0/EN
VERSION:2.0
CALSCALE:GREGORIAN
BEGIN:VEVENT
UID:hey.bayern.694644.6553966
DTSTAMP:20260422T012441Z
SUMMARY:25. Lebinger Advent
DTSTART;TZID=Europe/Berlin:20261212T140000
DTEND;TZID=Europe/Berlin:20261212T235959
LOCATION:Lebing 5\, 8183 Floing\, Österreich
URL;VALUE=URI:https://hey.bayern/events/694644
END:VEVENT
END:VCALENDAR
